BEGIN:VCALENDAR
VERSION:2.0
PRODID:spatie/icalendar-generator
DESCRIPTION:Evenementen van Buurtschap de Maurik
X-WR-CALDESC:Evenementen van Buurtschap de Maurik
REFRESH-INTERVAL;VALUE=DURATION:PT1440M
X-PUBLISHED-TTL:PT1440M
BEGIN:VTIMEZONE
TZID:Europe/Amsterdam
BEGIN:DAYLIGHT
DTSTART:20260329T020000Z
TZOFFSETFROM:+0100
TZOFFSETTO:+0200
END:DAYLIGHT
BEGIN:STANDARD
DTSTART:20261025T030000Z
TZOFFSETFROM:+0200
TZOFFSETTO:+0100
END:STANDARD
BEGIN:DAYLIGHT
DTSTART:20270328T020000Z
TZOFFSETFROM:+0100
TZOFFSETTO:+0200
END:DAYLIGHT
END:VTIMEZONE
BEGIN:VTIMEZONE
TZID:UTC
BEGIN:STANDARD
DTSTART:20250724T114021Z
TZOFFSETFROM:+0000
TZOFFSETTO:+0000
END:STANDARD
END:VTIMEZONE
BEGIN:VEVENT
UID:296-132
DTSTAMP:20260420T114021Z
SUMMARY:Burendag en Fietstocht
LOCATION:
ORGANIZER;CN=De Maurik:MAILTO:nieckjanboschman@outlook.com
DTSTART;TZID=Europe/Amsterdam:20260926T100000
DTEND;TZID=Europe/Amsterdam:20260926T120000
X-ALT-DESC;FMTTYPE=TEXT/HTML:Organisatie Piet en Nieck Jan
CATEGORIES:Algemeen,  Evenement
URL;VALUE=URI:https://buurtschapdemaurik.nl/agenda/?mc_id=296&#038;page_num
 ber_0=1&#038;vcal=296
METHOD:PUBLISH
END:VEVENT
END:VCALENDAR