BEGIN:VCALENDAR
VERSION:2.0
PRODID:spatie/icalendar-generator
DESCRIPTION:Evenementen van Buurtschap de Maurik
X-WR-CALDESC:Evenementen van Buurtschap de Maurik
REFRESH-INTERVAL;VALUE=DURATION:PT1440M
X-PUBLISHED-TTL:PT1440M
BEGIN:VTIMEZONE
TZID:Europe/Amsterdam
BEGIN:STANDARD
DTSTART:20251026T030000Z
TZOFFSETFROM:+0200
TZOFFSETTO:+0100
END:STANDARD
BEGIN:DAYLIGHT
DTSTART:20260329T020000Z
TZOFFSETFROM:+0100
TZOFFSETTO:+0200
END:DAYLIGHT
BEGIN:STANDARD
DTSTART:20261025T030000Z
TZOFFSETFROM:+0200
TZOFFSETTO:+0100
END:STANDARD
END:VTIMEZONE
BEGIN:VTIMEZONE
TZID:UTC
BEGIN:STANDARD
DTSTART:20250724T100929Z
TZOFFSETFROM:+0000
TZOFFSETTO:+0000
END:STANDARD
END:VTIMEZONE
BEGIN:VEVENT
UID:295-130
DTSTAMP:20260420T100929Z
SUMMARY:Buurtbarbeque Maurik
LOCATION:
ORGANIZER;CN=De Maurik:MAILTO:nieckjanboschman@outlook.com
DTSTART;TZID=Europe/Amsterdam:20260627T140000
DTEND;TZID=Europe/Amsterdam:20260627T235900
X-ALT-DESC;FMTTYPE=TEXT/HTML:Locatie:  Jaap en Tonny
CATEGORIES:Evenement
URL;VALUE=URI:https://buurtschapdemaurik.nl/agenda/?mc_id=295&#038;page_num
 ber_0=2&#038;vcal=295
METHOD:PUBLISH
END:VEVENT
END:VCALENDAR